BEGIN:VCALENDAR
VERSION:2.0
PRODID:-//Rcdgg Com - ECPv6.15.20//NONSGML v1.0//EN
CALSCALE:GREGORIAN
METHOD:PUBLISH
X-WR-CALNAME:Rcdgg Com
X-ORIGINAL-URL:https://rcdgg.com
X-WR-CALDESC:Events for Rcdgg Com
REFRESH-INTERVAL;VALUE=DURATION:PT1H
X-Robots-Tag:noindex
X-PUBLISHED-TTL:PT1H
BEGIN:VTIMEZONE
TZID:UTC
BEGIN:STANDARD
TZOFFSETFROM:+0000
TZOFFSETTO:+0000
TZNAME:UTC
DTSTART:20250101T000000
END:STANDARD
END:VTIMEZONE
BEGIN:VEVENT
DTSTART;TZID=UTC:20260425T080000
DTEND;TZID=UTC:20260425T160000
DTSTAMP:20260423T151528
CREATED:20251230T010755Z
LAST-MODIFIED:20260321T174649Z
UID:7446-1777104000-1777132800@rcdgg.com
SUMMARY:Disc Golf for Good (CEP Charity - Rated)
DESCRIPTION:Welcome to the Disc Golf for Good – Sponsored by MVP Discs event at Hinson Lake Disc Golf Course! \n\n\n\nThe Disc Golf for Good Rated 1-Round XC-Tier Event event is an annual event put on by the Richmond County Disc Golf Group to fundraise for the Richmond County Chapter of the Autism Society of North Carolina. With the help of the PDGA Competition Endowment Program we will be able to donate $11.50 per player that participates\, and all $15 non-member fees will be waived for non-PDGA members for this event. We hope to see an amazing turnout for this event. \n\n\n\nDETAILS: \n\n\n\nLayout:– Disc Golf for Good Layout (layout in images) \n\n\n\n \n\n\n\n8:00am – 1:00pm\n\n\n\nFlex Start Tee Times every 15-minutes. Please try to arrive at least 15-minutes prior to your tee time to get checked-in and to Hole 1. \n\n\n\nPro: Payout will be 100% of funds leftover after fees and contributions to the Richmond County Chapter of the Autism Society of North Carolina. \n\n\n\nAM: MVP Disc from selection\, and more to come. \n\n\n\nAce Pool: A $5 Ace Pot will be available via registration. If no ace is hit then the ace pot will be added to the total contribution to the Richmond County Chapter of the Autism Society of North Carolina. If a player hits an ace then the ace will be paid out via PayPal at the conclusion of the event. \n\n\n\nRaffles: $5 raffles will be in place for the event. These can be signed-up for via registration. Winners of any raffle will be notified prior to the start of the event and will receive their prizes at that time. \n\n\n\nMore details to come in the near future! \n\n\n\nRefund policy\n\n\n\nRichmond County Disc Golf Group is responsible for all refunds and cancellations. No refunds of any kind will be given after April 18th\, 2026 which is the Thursday prior to the event. \n\n\n\nDivisions\n\n\n\nMPOMixed Pro Open$40FPOWomen’s Pro Open$40MA1Mixed Am 1$30FA1Women’s Am 1$30MA40Mixed Am 40+$30FA40Women’s Am 40+$30MA50Mixed Am 50+$30FA50Women’s Am 50+$30MA60Mixed Am 60+$30FA60Women’s Am 60+$30MA2Mixed Am 2$30FA2Women’s Am 2$30MA3Mixed Am 3$30FA3Women’s Am 3$30MA4Mixed Am 4$30FA4Women’s Am 4$30
URL:https://rcdgg.com/?tribe_events=disc-golf-for-good-cep-charity-rated
ATTACH;FMTTYPE=image/jpeg:https://rcdgg.com/wp-content/uploads/2025/12/2026discgolfforgood.jpg
END:VEVENT
END:VCALENDAR